BEGIN:VCALENDAR
VERSION:2.0
PRODID:-//The Western Pennsylvania Family Center - ECPv6.15.20//NONSGML v1.0//EN
CALSCALE:GREGORIAN
METHOD:PUBLISH
X-WR-CALNAME:The Western Pennsylvania Family Center
X-ORIGINAL-URL:https://www.wpfc.net
X-WR-CALDESC:Events for The Western Pennsylvania Family Center
REFRESH-INTERVAL;VALUE=DURATION:PT1H
X-Robots-Tag:noindex
X-PUBLISHED-TTL:PT1H
BEGIN:VTIMEZONE
TZID:America/New_York
BEGIN:DAYLIGHT
TZOFFSETFROM:-0500
TZOFFSETTO:-0400
TZNAME:EDT
DTSTART:20210314T070000
END:DAYLIGHT
BEGIN:STANDARD
TZOFFSETFROM:-0400
TZOFFSETTO:-0500
TZNAME:EST
DTSTART:20211107T060000
END:STANDARD
BEGIN:DAYLIGHT
TZOFFSETFROM:-0500
TZOFFSETTO:-0400
TZNAME:EDT
DTSTART:20220313T070000
END:DAYLIGHT
BEGIN:STANDARD
TZOFFSETFROM:-0400
TZOFFSETTO:-0500
TZNAME:EST
DTSTART:20221106T060000
END:STANDARD
BEGIN:DAYLIGHT
TZOFFSETFROM:-0500
TZOFFSETTO:-0400
TZNAME:EDT
DTSTART:20230312T070000
END:DAYLIGHT
BEGIN:STANDARD
TZOFFSETFROM:-0400
TZOFFSETTO:-0500
TZNAME:EST
DTSTART:20231105T060000
END:STANDARD
END:VTIMEZONE
BEGIN:VEVENT
DTSTART;TZID=America/New_York:20221216T133000
DTEND;TZID=America/New_York:20221216T150000
DTSTAMP:20260423T032723
CREATED:20210914T172635Z
LAST-MODIFIED:20220826T205318Z
UID:3990-1671197400-1671202800@www.wpfc.net
SUMMARY:The Bowen Theory Academy Webcast Series
DESCRIPTION:The Bowen Theory Academy Webcast Series\nThe monthly webcast lectures feature Michael Kerr\, M.D. Director or Kathleen Kerr\, MSN\, MA\, CNS.  The monthly 90-minute webcasts are transmitted live from the Bowen Theory Academy (Islesboro\, ME) via Zoom. \nClick here to learn more about this series.
URL:https://www.wpfc.net/event/december-webcast/
LOCATION:PA
ATTACH;FMTTYPE=image/png:https://www.wpfc.net/wp-content/uploads/2021/01/M-A-K-E-D-R-E-A-M-S-4.png
END:VEVENT
END:VCALENDAR