BEGIN:VCALENDAR
VERSION:2.0
PRODID:-//The Western Pennsylvania Family Center - ECPv6.15.20//NONSGML v1.0//EN
CALSCALE:GREGORIAN
METHOD:PUBLISH
X-ORIGINAL-URL:https://www.wpfc.net
X-WR-CALDESC:Events for The Western Pennsylvania Family Center
REFRESH-INTERVAL;VALUE=DURATION:PT1H
X-Robots-Tag:noindex
X-PUBLISHED-TTL:PT1H
BEGIN:VTIMEZONE
TZID:America/New_York
BEGIN:DAYLIGHT
TZOFFSETFROM:-0500
TZOFFSETTO:-0400
TZNAME:EDT
DTSTART:20210314T070000
END:DAYLIGHT
BEGIN:STANDARD
TZOFFSETFROM:-0400
TZOFFSETTO:-0500
TZNAME:EST
DTSTART:20211107T060000
END:STANDARD
BEGIN:DAYLIGHT
TZOFFSETFROM:-0500
TZOFFSETTO:-0400
TZNAME:EDT
DTSTART:20220313T070000
END:DAYLIGHT
BEGIN:STANDARD
TZOFFSETFROM:-0400
TZOFFSETTO:-0500
TZNAME:EST
DTSTART:20221106T060000
END:STANDARD
BEGIN:DAYLIGHT
TZOFFSETFROM:-0500
TZOFFSETTO:-0400
TZNAME:EDT
DTSTART:20230312T070000
END:DAYLIGHT
BEGIN:STANDARD
TZOFFSETFROM:-0400
TZOFFSETTO:-0500
TZNAME:EST
DTSTART:20231105T060000
END:STANDARD
END:VTIMEZONE
BEGIN:VEVENT
DTSTART;VALUE=DATE:20220413
DTEND;VALUE=DATE:20220414
DTSTAMP:20260423T171735
CREATED:20220114T182857Z
LAST-MODIFIED:20220114T182857Z
UID:4902-1649808000-1649894399@www.wpfc.net
SUMMARY:Video Discussion
DESCRIPTION:“Anxiety and Emotional Reactivity in Therapy” \nVisit the Video Discussion Group page to learn more.
URL:https://www.wpfc.net/event/video-discussion-3/
LOCATION:PA
ATTACH;FMTTYPE=image/png:https://www.wpfc.net/wp-content/uploads/2021/12/Video-Discussion-Group.png
END:VEVENT
END:VCALENDAR